Workbook

Sheet Como usar
B2: Planilha de controle financeiro pessoal
B3: Conta Organizada · contaorganizada.com.br · gratuita, pode copiar e adaptar
B5: Como usar, em 3 passos
B6: 1. Aba Categorias: ajuste as categorias e preencha o orçamento mensal de cada uma (células amarelas).
B7: 2. Aba Lançamentos: registre cada entrada e saída de dinheiro: data, descrição, categoria e valor.
B8: O tipo (Receita ou Despesa) e o mês são preenchidos sozinhos a partir da categoria e da data.
B9: 3. Aba Resumo: escolha o ano na célula amarela e veja receitas, despesas, saldo e quanto você poupou mês a mês,
B10: além de cada categoria comparada com o orçamento.
B12: Legenda
B13: Células amarelas: você preenche. Células brancas com fórmula: não precisa mexer.
B14: As linhas cinzas da aba Lançamentos são exemplos. Apague-as quando começar a usar.
B15: Valores sempre positivos: quem decide se é entrada ou saída é a categoria.
... B25: https://minha.contaorganizada.com.br/registrar?utm_source=planilha&utm_medium=download&utm_campaign=planilha-controle-financeiro

Sheet Resumo
A1: Resumo do ano
A2: Ano | B2: 2026 | C2: ← troque o ano para ver outro período
A4: Visão geral | B4: Jan | C4: Fev | D4: Mar | E4: Abr | F4: Mai | G4: Jun | H4: Jul | I4: Ago | J4: Set | K4: Out | L4: Nov | M4: Dez | N4: Total do ano
A5: Receitas | B5: =SUMIFS(Lançamentos!$D$5:$D$1004,Lançamentos!$F$5:$F$1004,"Receita",Lançamentos!$G$5:$G$1004,DATE($B$2,1,1)) | C5: =SUMIFS(Lançamentos!$D$5:$D$1004,Lançamentos!$F$5:$F$1004,"Receita",Lançamentos!$G$5:$G$1004,DATE($B$2,2,1)) | D5: =SUMIFS(Lançamentos!$D$5:$D$1004,Lançamentos!$F$5:$F$1004,"Receita",Lançamentos!$G$5:$G$1004,DATE($B$2,3,1)) | E5: =SUMIFS(Lançamentos!$D$5:$D$1004,Lançamentos!$F$5:$F$1004,"Receita",Lançamentos!$G$5:$G$1004,DATE($B$2,4,1)) | F5: =SUMIFS(Lançamentos!$D$5:$D$1004,Lançamentos!$F$5:$F$1004,"Receita",Lançamentos!$G$5:$G$1004,DATE($B$2,5,1)) | G5: =SUMIFS(Lançamentos!$D$5:$D$1004,Lançamentos!$F$5:$F$1004,"Receita",Lançamentos!$G$5:$G$1004,DATE($B$2,6,1)) | H5: =SUMIFS(Lançamentos!$D$5:$D$1004,Lançamentos!$F$5:$F$1004,"Receita",Lançamentos!$G$5:$G$1004,DATE($B$2,7,1)) | I5: =SUMIFS(Lançamentos!$D$5:$D$1004,Lançamentos!$F$5:$F$1004,"Receita",Lançamentos!$G$5:$G$1004,DATE($B$2,8,1)) | J5: =SUMIFS(Lançamentos!$D$5:$D$1004,Lançamentos!$F$5:$F$1004,"Receita",Lançamentos!$G$5:$G$1004,DATE($B$2,9,1)) | K5: =SUMIFS(Lançamentos!$D$5:$D$1004,Lançamentos!$F$5:$F$1004,"Receita",Lançamentos!$G$5:$G$1004,DATE($B$2,10,1)) | L5: =SUMIFS(Lançamentos!$D$5:$D$1004,Lançamentos!$F$5:$F$1004,"Receita",Lançamentos!$G$5:$G$1004,DATE($B$2,11,1)) | M5: =SUMIFS(Lançamentos!$D$5:$D$1004,Lançamentos!$F$5:$F$1004,"Receita",Lançamentos!$G$5:$G$1004,DATE($B$2,12,1)) | N5: =SUM(B5:M5)
A6: Despesas | B6: =SUMIFS(Lançamentos!$D$5:$D$1004,Lançamentos!$F$5:$F$1004,"Despesa",Lançamentos!$G$5:$G$1004,DATE($B$2,1,1)) | C6: =SUMIFS(Lançamentos!$D$5:$D$1004,Lançamentos!$F$5:$F$1004,"Despesa",Lançamentos!$G$5:$G$1004,DATE($B$2,2,1)) | D6: =SUMIFS(Lançamentos!$D$5:$D$1004,Lançamentos!$F$5:$F$1004,"Despesa",Lançamentos!$G$5:$G$1004,DATE($B$2,3,1)) | E6: =SUMIFS(Lançamentos!$D$5:$D$1004,Lançamentos!$F$5:$F$1004,"Despesa",Lançamentos!$G$5:$G$1004,DATE($B$2,4,1)) | F6: =SUMIFS(Lançamentos!$D$5:$D$1004,Lançamentos!$F$5:$F$1004,"Despesa",Lançamentos!$G$5:$G$1004,DATE($B$2,5,1)) | G6: =SUMIFS(Lançamentos!$D$5:$D$1004,Lançamentos!$F$5:$F$1004,"Despesa",Lançamentos!$G$5:$G$1004,DATE($B$2,6,1)) | H6: =SUMIFS(Lançamentos!$D$5:$D$1004,Lançamentos!$F$5:$F$1004,"Despesa",Lançamentos!$G$5:$G$1004,DATE($B$2,7,1)) | I6: =SUMIFS(Lançamentos!$D$5:$D$1004,Lançamentos!$F$5:$F$1004,"Despesa",Lançamentos!$G$5:$G$1004,DATE($B$2,8,1)) | J6: =SUMIFS(Lançamentos!$D$5:$D$1004,Lançamentos!$F$5:$F$1004,"Despesa",Lançamentos!$G$5:$G$1004,DATE($B$2,9,1)) | K6: =SUMIFS(Lançamentos!$D$5:$D$1004,Lançamentos!$F$5:$F$1004,"Despesa",Lançamentos!$G$5:$G$1004,DATE($B$2,10,1)) | L6: =SUMIFS(Lançamentos!$D$5:$D$1004,Lançamentos!$F$5:$F$1004,"Despesa",Lançamentos!$G$5:$G$1004,DATE($B$2,11,1)) | M6: =SUMIFS(Lançamentos!$D$5:$D$1004,Lançamentos!$F$5:$F$1004,"Despesa",Lançamentos!$G$5:$G$1004,DATE($B$2,12,1)) | N6: =SUM(B6:M6)
A7: Saldo do mês | B7: =B5-B6 | C7: =C5-C6 | D7: =D5-D6 | E7: =E5-E6 | F7: =F5-F6 | G7: =G5-G6 | H7: =H5-H6 | I7: =I5-I6 | ... M7: =M5-M6 | N7: =SUM(B7:M7)
A8: Guardado (Investimentos e reserva) | B8: =SUMIFS(Lançamentos!$D$5:$D$1004,Lançamentos!$C$5:$C$1004,"Investimentos e reserva",Lançamentos!$G$5:$G$1004,DATE($B$2,1,1)) | C8: =SUMIFS(Lançamentos!$D$5:$D$1004,Lançamentos!$C$5:$C$1004,"Investimentos e reserva",Lançamentos!$G$5:$G$1004,DATE($B$2,2,1)) | D8: =SUMIFS(Lançamentos!$D$5:$D$1004,Lançamentos!$C$5:$C$1004,"Investimentos e reserva",Lançamentos!$G$5:$G$1004,DATE($B$2,3,1)) | E8: =SUMIFS(Lançamentos!$D$5:$D$1004,Lançamentos!$C$5:$C$1004,"Investimentos e reserva",Lançamentos!$G$5:$G$1004,DATE($B$2,4,1)) | F8: =SUMIFS(Lançamentos!$D$5:$D$1004,Lançamentos!$C$5:$C$1004,"Investimentos e reserva",Lançamentos!$G$5:$G$1004,DATE($B$2,5,1)) | G8: =SUMIFS(Lançamentos!$D$5:$D$1004,Lançamentos!$C$5:$C$1004,"Investimentos e reserva",Lançamentos!$G$5:$G$1004,DATE($B$2,6,1)) | H8: =SUMIFS(Lançamentos!$D$5:$D$1004,Lançamentos!$C$5:$C$1004,"Investimentos e reserva",Lançamentos!$G$5:$G$1004,DATE($B$2,7,1)) | I8: =SUMIFS(Lançamentos!$D$5:$D$1004,Lançamentos!$C$5:$C$1004,"Investimentos e reserva",Lançamentos!$G$5:$G$1004,DATE($B$2,8,1)) | J8: =SUMIFS(Lançamentos!$D$5:$D$1004,Lançamentos!$C$5:$C$1004,"Investimentos e reserva",Lançamentos!$G$5:$G$1004,DATE($B$2,9,1)) | K8: =SUMIFS(Lançamentos!$D$5:$D$1004,Lançamentos!$C$5:$C$1004,"Investimentos e reserva",Lançamentos!$G$5:$G$1004,DATE($B$2,10,1)) | L8: =SUMIFS(Lançamentos!$D$5:$D$1004,Lançamentos!$C$5:$C$1004,"Investimentos e reserva",Lançamentos!$G$5:$G$1004,DATE($B$2,11,1)) | M8: =SUMIFS(Lançamentos!$D$5:$D$1004,Lançamentos!$C$5:$C$1004,"Investimentos e reserva",Lançamentos!$G$5:$G$1004,DATE($B$2,12,1)) | N8: =SUM(B8:M8)
A9: % da receita guardada | B9: =IF(B5=0,"",(B7+B8)/B5) | C9: =IF(C5=0,"",(C7+C8)/C5) | D9: =IF(D5=0,"",(D7+D8)/D5) | E9: =IF(E5=0,"",(E7+E8)/E5) | F9: =IF(F5=0,"",(F7+F8)/F5) | G9: =IF(G5=0,"",(G7+G8)/G5) | H9: =IF(H5=0,"",(H7+H8)/H5) | I9: =IF(I5=0,"",(I7+I8)/I5) | ... N9: =IF(N5=0,"",(N7+N8)/N5)
A10: Mês com lançamento (1 = sim) | B10: =IF(B5+B6>0,1,0) | C10: =IF(C5+C6>0,1,0) | D10: =IF(D5+D6>0,1,0) | E10: =IF(E5+E6>0,1,0) | F10: =IF(F5+F6>0,1,0) | G10: =IF(G5+G6>0,1,0) | H10: =IF(H5+H6>0,1,0) | I10: =IF(I5+I6>0,1,0) | ... M10: =IF(M5+M6>0,1,0) | N10: =SUM(B10:M10)
A11: % guardado = (saldo do mês + o que foi para investimentos e reserva) ÷ receitas.
A13: Por categoria | B13: Jan | C13: Fev | D13: Mar | E13: Abr | F13: Mai | G13: Jun | H13: Jul | I13: Ago | J13: Set | K13: Out | L13: Nov | M13: Dez | N13: Total do ano | O13: Média mensal | P13: Orçamento mensal | Q13: Média x orçamento
A14: =IF(Categorias!$A$5="","",Categorias!$A$5) | B14: =IF($A14="","",SUMIFS(Lançamentos!$D$5:$D$1004,Lançamentos!$C$5:$C$1004,$A14,Lançamentos!$G$5:$G$1004,DATE($B$2,1,1))) | C14: =IF($A14="","",SUMIFS(Lançamentos!$D$5:$D$1004,Lançamentos!$C$5:$C$1004,$A14,Lançamentos!$G$5:$G$1004,DATE($B$2,2,1))) | D14: =IF($A14="","",SUMIFS(Lançamentos!$D$5:$D$1004,Lançamentos!$C$5:$C$1004,$A14,Lançamentos!$G$5:$G$1004,DATE($B$2,3,1))) | E14: =IF($A14="","",SUMIFS(Lançamentos!$D$5:$D$1004,Lançamentos!$C$5:$C$1004,$A14,Lançamentos!$G$5:$G$1004,DATE($B$2,4,1))) | F14: =IF($A14="","",SUMIFS(Lançamentos!$D$5:$D$1004,Lançamentos!$C$5:$C$1004,$A14,Lançamentos!$G$5:$G$1004,DATE($B$2,5,1))) | G14: =IF($A14="","",SUMIFS(Lançamentos!$D$5:$D$1004,Lançamentos!$C$5:$C$1004,$A14,Lançamentos!$G$5:$G$1004,DATE($B$2,6,1))) | H14: =IF($A14="","",SUMIFS(Lançamentos!$D$5:$D$1004,Lançamentos!$C$5:$C$1004,$A14,Lançamentos!$G$5:$G$1004,DATE($B$2,7,1))) | I14: =IF($A14="","",SUMIFS(Lançamentos!$D$5:$D$1004,Lançamentos!$C$5:$C$1004,$A14,Lançamentos!$G$5:$G$1004,DATE($B$2,8,1))) | J14: =IF($A14="","",SUMIFS(Lançamentos!$D$5:$D$1004,Lançamentos!$C$5:$C$1004,$A14,Lançamentos!$G$5:$G$1004,DATE($B$2,9,1))) | K14: =IF($A14="","",SUMIFS(Lançamentos!$D$5:$D$1004,Lançamentos!$C$5:$C$1004,$A14,Lançamentos!$G$5:$G$1004,DATE($B$2,10,1))) | L14: =IF($A14="","",SUMIFS(Lançamentos!$D$5:$D$1004,Lançamentos!$C$5:$C$1004,$A14,Lançamentos!$G$5:$G$1004,DATE($B$2,11,1))) | M14: =IF($A14="","",SUMIFS(Lançamentos!$D$5:$D$1004,Lançamentos!$C$5:$C$1004,$A14,Lançamentos!$G$5:$G$1004,DATE($B$2,12,1))) | N14: =IF($A14="","",SUM(B14:M14)) | O14: =IF(OR($A14="",$N$10=0),"",N14/$N$10) | P14: =IF($A14="","",Categorias!$C$5) | Q14: =IF(OR($A14="",O14="",P14=""),"",O14-P14)
A15: =IF(Categorias!$A$6="","",Categorias!$A$6) | B15: =IF($A15="","",SUMIFS(Lançamentos!$D$5:$D$1004,Lançamentos!$C$5:$C$1004,$A15,Lançamentos!$G$5:$G$1004,DATE($B$2,1,1))) | C15: =IF($A15="","",SUMIFS(Lançamentos!$D$5:$D$1004,Lançamentos!$C$5:$C$1004,$A15,Lançamentos!$G$5:$G$1004,DATE($B$2,2,1))) | D15: =IF($A15="","",SUMIFS(Lançamentos!$D$5:$D$1004,Lançamentos!$C$5:$C$1004,$A15,Lançamentos!$G$5:$G$1004,DATE($B$2,3,1))) | E15: =IF($A15="","",SUMIFS(Lançamentos!$D$5:$D$1004,Lançamentos!$C$5:$C$1004,$A15,Lançamentos!$G$5:$G$1004,DATE($B$2,4,1))) | F15: =IF($A15="","",SUMIFS(Lançamentos!$D$5:$D$1004,Lançamentos!$C$5:$C$1004,$A15,Lançamentos!$G$5:$G$1004,DATE($B$2,5,1))) | G15: =IF($A15="","",SUMIFS(Lançamentos!$D$5:$D$1004,Lançamentos!$C$5:$C$1004,$A15,Lançamentos!$G$5:$G$1004,DATE($B$2,6,1))) | H15: =IF($A15="","",SUMIFS(Lançamentos!$D$5:$D$1004,Lançamentos!$C$5:$C$1004,$A15,Lançamentos!$G$5:$G$1004,DATE($B$2,7,1))) | I15: =IF($A15="","",SUMIFS(Lançamentos!$D$5:$D$1004,Lançamentos!$C$5:$C$1004,$A15,Lançamentos!$G$5:$G$1004,DATE($B$2,8,1))) | J15: =IF($A15="","",SUMIFS(Lançamentos!$D$5:$D$1004,Lançamentos!$C$5:$C$1004,$A15,Lançamentos!$G$5:$G$1004,DATE($B$2,9,1))) | K15: =IF($A15="","",SUMIFS(Lançamentos!$D$5:$D$1004,Lançamentos!$C$5:$C$1004,$A15,Lançamentos!$G$5:$G$1004,DATE($B$2,10,1))) | L15: =IF($A15="","",SUMIFS(Lançamentos!$D$5:$D$1004,Lançamentos!$C$5:$C$1004,$A15,Lançamentos!$G$5:$G$1004,DATE($B$2,11,1))) | M15: =IF($A15="","",SUMIFS(Lançamentos!$D$5:$D$1004,Lançamentos!$C$5:$C$1004,$A15,Lançamentos!$G$5:$G$1004,DATE($B$2,12,1))) | N15: =IF($A15="","",SUM(B15:M15)) | O15: =IF(OR($A15="",$N$10=0),"",N15/$N$10) | P15: =IF($A15="","",Categorias!$C$6) | Q15: =IF(OR($A15="",O15="",P15=""),"",O15-P15)
A16: =IF(Categorias!$A$7="","",Categorias!$A$7) | B16: =IF($A16="","",SUMIFS(Lançamentos!$D$5:$D$1004,Lançamentos!$C$5:$C$1004,$A16,Lançamentos!$G$5:$G$1004,DATE($B$2,1,1))) | C16: =IF($A16="","",SUMIFS(Lançamentos!$D$5:$D$1004,Lançamentos!$C$5:$C$1004,$A16,Lançamentos!$G$5:$G$1004,DATE($B$2,2,1))) | D16: =IF($A16="","",SUMIFS(Lançamentos!$D$5:$D$1004,Lançamentos!$C$5:$C$1004,$A16,Lançamentos!$G$5:$G$1004,DATE($B$2,3,1))) | E16: =IF($A16="","",SUMIFS(Lançamentos!$D$5:$D$1004,Lançamentos!$C$5:$C$1004,$A16,Lançamentos!$G$5:$G$1004,DATE($B$2,4,1))) | F16: =IF($A16="","",SUMIFS(Lançamentos!$D$5:$D$1004,Lançamentos!$C$5:$C$1004,$A16,Lançamentos!$G$5:$G$1004,DATE($B$2,5,1))) | G16: =IF($A16="","",SUMIFS(Lançamentos!$D$5:$D$1004,Lançamentos!$C$5:$C$1004,$A16,Lançamentos!$G$5:$G$1004,DATE($B$2,6,1))) | H16: =IF($A16="","",SUMIFS(Lançamentos!$D$5:$D$1004,Lançamentos!$C$5:$C$1004,$A16,Lançamentos!$G$5:$G$1004,DATE($B$2,7,1))) | I16: =IF($A16="","",SUMIFS(Lançamentos!$D$5:$D$1004,Lançamentos!$C$5:$C$1004,$A16,Lançamentos!$G$5:$G$1004,DATE($B$2,8,1))) | J16: =IF($A16="","",SUMIFS(Lançamentos!$D$5:$D$1004,Lançamentos!$C$5:$C$1004,$A16,Lançamentos!$G$5:$G$1004,DATE($B$2,9,1))) | K16: =IF($A16="","",SUMIFS(Lançamentos!$D$5:$D$1004,Lançamentos!$C$5:$C$1004,$A16,Lançamentos!$G$5:$G$1004,DATE($B$2,10,1))) | L16: =IF($A16="","",SUMIFS(Lançamentos!$D$5:$D$1004,Lançamentos!$C$5:$C$1004,$A16,Lançamentos!$G$5:$G$1004,DATE($B$2,11,1))) | M16: =IF($A16="","",SUMIFS(Lançamentos!$D$5:$D$1004,Lançamentos!$C$5:$C$1004,$A16,Lançamentos!$G$5:$G$1004,DATE($B$2,12,1))) | N16: =IF($A16="","",SUM(B16:M16)) | O16: =IF(OR($A16="",$N$10=0),"",N16/$N$10) | P16: =IF($A16="","",Categorias!$C$7) | Q16: =IF(OR($A16="",O16="",P16=""),"",O16-P16)
A17: =IF(Categorias!$A$8="","",Categorias!$A$8) | B17: =IF($A17="","",SUMIFS(Lançamentos!$D$5:$D$1004,Lançamentos!$C$5:$C$1004,$A17,Lançamentos!$G$5:$G$1004,DATE($B$2,1,1))) | C17: =IF($A17="","",SUMIFS(Lançamentos!$D$5:$D$1004,Lançamentos!$C$5:$C$1004,$A17,Lançamentos!$G$5:$G$1004,DATE($B$2,2,1))) | D17: =IF($A17="","",SUMIFS(Lançamentos!$D$5:$D$1004,Lançamentos!$C$5:$C$1004,$A17,Lançamentos!$G$5:$G$1004,DATE($B$2,3,1))) | E17: =IF($A17="","",SUMIFS(Lançamentos!$D$5:$D$1004,Lançamentos!$C$5:$C$1004,$A17,Lançamentos!$G$5:$G$1004,DATE($B$2,4,1))) | F17: =IF($A17="","",SUMIFS(Lançamentos!$D$5:$D$1004,Lançamentos!$C$5:$C$1004,$A17,Lançamentos!$G$5:$G$1004,DATE($B$2,5,1))) | G17: =IF($A17="","",SUMIFS(Lançamentos!$D$5:$D$1004,Lançamentos!$C$5:$C$1004,$A17,Lançamentos!$G$5:$G$1004,DATE($B$2,6,1))) | H17: =IF($A17="","",SUMIFS(Lançamentos!$D$5:$D$1004,Lançamentos!$C$5:$C$1004,$A17,Lançamentos!$G$5:$G$1004,DATE($B$2,7,1))) | I17: =IF($A17="","",SUMIFS(Lançamentos!$D$5:$D$1004,Lançamentos!$C$5:$C$1004,$A17,Lançamentos!$G$5:$G$1004,DATE($B$2,8,1))) | J17: =IF($A17="","",SUMIFS(Lançamentos!$D$5:$D$1004,Lançamentos!$C$5:$C$1004,$A17,Lançamentos!$G$5:$G$1004,DATE($B$2,9,1))) | K17: =IF($A17="","",SUMIFS(Lançamentos!$D$5:$D$1004,Lançamentos!$C$5:$C$1004,$A17,Lançamentos!$G$5:$G$1004,DATE($B$2,10,1))) | L17: =IF($A17="","",SUMIFS(Lançamentos!$D$5:$D$1004,Lançamentos!$C$5:$C$1004,$A17,Lançamentos!$G$5:$G$1004,DATE($B$2,11,1))) | M17: =IF($A17="","",SUMIFS(Lançamentos!$D$5:$D$1004,Lançamentos!$C$5:$C$1004,$A17,Lançamentos!$G$5:$G$1004,DATE($B$2,12,1))) | N17: =IF($A17="","",SUM(B17:M17)) | O17: =IF(OR($A17="",$N$10=0),"",N17/$N$10) | P17: =IF($A17="","",Categorias!$C$8) | Q17: =IF(OR($A17="",O17="",P17=""),"",O17-P17)
A18: =IF(Categorias!$A$9="","",Categorias!$A$9) | B18: =IF($A18="","",SUMIFS(Lançamentos!$D$5:$D$1004,Lançamentos!$C$5:$C$1004,$A18,Lançamentos!$G$5:$G$1004,DATE($B$2,1,1))) | C18: =IF($A18="","",SUMIFS(Lançamentos!$D$5:$D$1004,Lançamentos!$C$5:$C$1004,$A18,Lançamentos!$G$5:$G$1004,DATE($B$2,2,1))) | D18: =IF($A18="","",SUMIFS(Lançamentos!$D$5:$D$1004,Lançamentos!$C$5:$C$1004,$A18,Lançamentos!$G$5:$G$1004,DATE($B$2,3,1))) | E18: =IF($A18="","",SUMIFS(Lançamentos!$D$5:$D$1004,Lançamentos!$C$5:$C$1004,$A18,Lançamentos!$G$5:$G$1004,DATE($B$2,4,1))) | F18: =IF($A18="","",SUMIFS(Lançamentos!$D$5:$D$1004,Lançamentos!$C$5:$C$1004,$A18,Lançamentos!$G$5:$G$1004,DATE($B$2,5,1))) | G18: =IF($A18="","",SUMIFS(Lançamentos!$D$5:$D$1004,Lançamentos!$C$5:$C$1004,$A18,Lançamentos!$G$5:$G$1004,DATE($B$2,6,1))) | H18: =IF($A18="","",SUMIFS(Lançamentos!$D$5:$D$1004,Lançamentos!$C$5:$C$1004,$A18,Lançamentos!$G$5:$G$1004,DATE($B$2,7,1))) | I18: =IF($A18="","",SUMIFS(Lançamentos!$D$5:$D$1004,Lançamentos!$C$5:$C$1004,$A18,Lançamentos!$G$5:$G$1004,DATE($B$2,8,1))) | J18: =IF($A18="","",SUMIFS(Lançamentos!$D$5:$D$1004,Lançamentos!$C$5:$C$1004,$A18,Lançamentos!$G$5:$G$1004,DATE($B$2,9,1))) | K18: =IF($A18="","",SUMIFS(Lançamentos!$D$5:$D$1004,Lançamentos!$C$5:$C$1004,$A18,Lançamentos!$G$5:$G$1004,DATE($B$2,10,1))) | L18: =IF($A18="","",SUMIFS(Lançamentos!$D$5:$D$1004,Lançamentos!$C$5:$C$1004,$A18,Lançamentos!$G$5:$G$1004,DATE($B$2,11,1))) | M18: =IF($A18="","",SUMIFS(Lançamentos!$D$5:$D$1004,Lançamentos!$C$5:$C$1004,$A18,Lançamentos!$G$5:$G$1004,DATE($B$2,12,1))) | N18: =IF($A18="","",SUM(B18:M18)) | O18: =IF(OR($A18="",$N$10=0),"",N18/$N$10) | P18: =IF($A18="","",Categorias!$C$9) | Q18: =IF(OR($A18="",O18="",P18=""),"",O18-P18)
A19: =IF(Categorias!$A$10="","",Categorias!$A$10) | B19: =IF($A19="","",SUMIFS(Lançamentos!$D$5:$D$1004,Lançamentos!$C$5:$C$1004,$A19,Lançamentos!$G$5:$G$1004,DATE($B$2,1,1))) | C19: =IF($A19="","",SUMIFS(Lançamentos!$D$5:$D$1004,Lançamentos!$C$5:$C$1004,$A19,Lançamentos!$G$5:$G$1004,DATE($B$2,2,1))) | D19: =IF($A19="","",SUMIFS(Lançamentos!$D$5:$D$1004,Lançamentos!$C$5:$C$1004,$A19,Lançamentos!$G$5:$G$1004,DATE($B$2,3,1))) | E19: =IF($A19="","",SUMIFS(Lançamentos!$D$5:$D$1004,Lançamentos!$C$5:$C$1004,$A19,Lançamentos!$G$5:$G$1004,DATE($B$2,4,1))) | F19: =IF($A19="","",SUMIFS(Lançamentos!$D$5:$D$1004,Lançamentos!$C$5:$C$1004,$A19,Lançamentos!$G$5:$G$1004,DATE($B$2,5,1))) | G19: =IF($A19="","",SUMIFS(Lançamentos!$D$5:$D$1004,Lançamentos!$C$5:$C$1004,$A19,Lançamentos!$G$5:$G$1004,DATE($B$2,6,1))) | H19: =IF($A19="","",SUMIFS(Lançamentos!$D$5:$D$1004,Lançamentos!$C$5:$C$1004,$A19,Lançamentos!$G$5:$G$1004,DATE($B$2,7,1))) | I19: =IF($A19="","",SUMIFS(Lançamentos!$D$5:$D$1004,Lançamentos!$C$5:$C$1004,$A19,Lançamentos!$G$5:$G$1004,DATE($B$2,8,1))) | J19: =IF($A19="","",SUMIFS(Lançamentos!$D$5:$D$1004,Lançamentos!$C$5:$C$1004,$A19,Lançamentos!$G$5:$G$1004,DATE($B$2,9,1))) | K19: =IF($A19="","",SUMIFS(Lançamentos!$D$5:$D$1004,Lançamentos!$C$5:$C$1004,$A19,Lançamentos!$G$5:$G$1004,DATE($B$2,10,1))) | L19: =IF($A19="","",SUMIFS(Lançamentos!$D$5:$D$1004,Lançamentos!$C$5:$C$1004,$A19,Lançamentos!$G$5:$G$1004,DATE($B$2,11,1))) | M19: =IF($A19="","",SUMIFS(Lançamentos!$D$5:$D$1004,Lançamentos!$C$5:$C$1004,$A19,Lançamentos!$G$5:$G$1004,DATE($B$2,12,1))) | N19: =IF($A19="","",SUM(B19:M19)) | O19: =IF(OR($A19="",$N$10=0),"",N19/$N$10) | P19: =IF($A19="","",Categorias!$C$10) | Q19: =IF(OR($A19="",O19="",P19=""),"",O19-P19)
A20: =IF(Categorias!$A$11="","",Categorias!$A$11) | B20: =IF($A20="","",SUMIFS(Lançamentos!$D$5:$D$1004,Lançamentos!$C$5:$C$1004,$A20,Lançamentos!$G$5:$G$1004,DATE($B$2,1,1))) | C20: =IF($A20="","",SUMIFS(Lançamentos!$D$5:$D$1004,Lançamentos!$C$5:$C$1004,$A20,Lançamentos!$G$5:$G$1004,DATE($B$2,2,1))) | D20: =IF($A20="","",SUMIFS(Lançamentos!$D$5:$D$1004,Lançamentos!$C$5:$C$1004,$A20,Lançamentos!$G$5:$G$1004,DATE($B$2,3,1))) | E20: =IF($A20="","",SUMIFS(Lançamentos!$D$5:$D$1004,Lançamentos!$C$5:$C$1004,$A20,Lançamentos!$G$5:$G$1004,DATE($B$2,4,1))) | F20: =IF($A20="","",SUMIFS(Lançamentos!$D$5:$D$1004,Lançamentos!$C$5:$C$1004,$A20,Lançamentos!$G$5:$G$1004,DATE($B$2,5,1))) | G20: =IF($A20="","",SUMIFS(Lançamentos!$D$5:$D$1004,Lançamentos!$C$5:$C$1004,$A20,Lançamentos!$G$5:$G$1004,DATE($B$2,6,1))) | H20: =IF($A20="","",SUMIFS(Lançamentos!$D$5:$D$1004,Lançamentos!$C$5:$C$1004,$A20,Lançamentos!$G$5:$G$1004,DATE($B$2,7,1))) | I20: =IF($A20="","",SUMIFS(Lançamentos!$D$5:$D$1004,Lançamentos!$C$5:$C$1004,$A20,Lançamentos!$G$5:$G$1004,DATE($B$2,8,1))) | J20: =IF($A20="","",SUMIFS(Lançamentos!$D$5:$D$1004,Lançamentos!$C$5:$C$1004,$A20,Lançamentos!$G$5:$G$1004,DATE($B$2,9,1))) | K20: =IF($A20="","",SUMIFS(Lançamentos!$D$5:$D$1004,Lançamentos!$C$5:$C$1004,$A20,Lançamentos!$G$5:$G$1004,DATE($B$2,10,1))) | L20: =IF($A20="","",SUMIFS(Lançamentos!$D$5:$D$1004,Lançamentos!$C$5:$C$1004,$A20,Lançamentos!$G$5:$G$1004,DATE($B$2,11,1))) | M20: =IF($A20="","",SUMIFS(Lançamentos!$D$5:$D$1004,Lançamentos!$C$5:$C$1004,$A20,Lançamentos!$G$5:$G$1004,DATE($B$2,12,1))) | N20: =IF($A20="","",SUM(B20:M20)) | O20: =IF(OR($A20="",$N$10=0),"",N20/$N$10) | P20: =IF($A20="","",Categorias!$C$11) | Q20: =IF(OR($A20="",O20="",P20=""),"",O20-P20)
A21: =IF(Categorias!$A$12="","",Categorias!$A$12) | B21: =IF($A21="","",SUMIFS(Lançamentos!$D$5:$D$1004,Lançamentos!$C$5:$C$1004,$A21,Lançamentos!$G$5:$G$1004,DATE($B$2,1,1))) | C21: =IF($A21="","",SUMIFS(Lançamentos!$D$5:$D$1004,Lançamentos!$C$5:$C$1004,$A21,Lançamentos!$G$5:$G$1004,DATE($B$2,2,1))) | D21: =IF($A21="","",SUMIFS(Lançamentos!$D$5:$D$1004,Lançamentos!$C$5:$C$1004,$A21,Lançamentos!$G$5:$G$1004,DATE($B$2,3,1))) | E21: =IF($A21="","",SUMIFS(Lançamentos!$D$5:$D$1004,Lançamentos!$C$5:$C$1004,$A21,Lançamentos!$G$5:$G$1004,DATE($B$2,4,1))) | F21: =IF($A21="","",SUMIFS(Lançamentos!$D$5:$D$1004,Lançamentos!$C$5:$C$1004,$A21,Lançamentos!$G$5:$G$1004,DATE($B$2,5,1))) | G21: =IF($A21="","",SUMIFS(Lançamentos!$D$5:$D$1004,Lançamentos!$C$5:$C$1004,$A21,Lançamentos!$G$5:$G$1004,DATE($B$2,6,1))) | H21: =IF($A21="","",SUMIFS(Lançamentos!$D$5:$D$1004,Lançamentos!$C$5:$C$1004,$A21,Lançamentos!$G$5:$G$1004,DATE($B$2,7,1))) | I21: =IF($A21="","",SUMIFS(Lançamentos!$D$5:$D$1004,Lançamentos!$C$5:$C$1004,$A21,Lançamentos!$G$5:$G$1004,DATE($B$2,8,1))) | J21: =IF($A21="","",SUMIFS(Lançamentos!$D$5:$D$1004,Lançamentos!$C$5:$C$1004,$A21,Lançamentos!$G$5:$G$1004,DATE($B$2,9,1))) | K21: =IF($A21="","",SUMIFS(Lançamentos!$D$5:$D$1004,Lançamentos!$C$5:$C$1004,$A21,Lançamentos!$G$5:$G$1004,DATE($B$2,10,1))) | L21: =IF($A21="","",SUMIFS(Lançamentos!$D$5:$D$1004,Lançamentos!$C$5:$C$1004,$A21,Lançamentos!$G$5:$G$1004,DATE($B$2,11,1))) | M21: =IF($A21="","",SUMIFS(Lançamentos!$D$5:$D$1004,Lançamentos!$C$5:$C$1004,$A21,Lançamentos!$G$5:$G$1004,DATE($B$2,12,1))) | N21: =IF($A21="","",SUM(B21:M21)) | O21: =IF(OR($A21="",$N$10=0),"",N21/$N$10) | P21: =IF($A21="","",Categorias!$C$12) | Q21: =IF(OR($A21="",O21="",P21=""),"",O21-P21)
A22: =IF(Categorias!$A$13="","",Categorias!$A$13) | B22: =IF($A22="","",SUMIFS(Lançamentos!$D$5:$D$1004,Lançamentos!$C$5:$C$1004,$A22,Lançamentos!$G$5:$G$1004,DATE($B$2,1,1))) | C22: =IF($A22="","",SUMIFS(Lançamentos!$D$5:$D$1004,Lançamentos!$C$5:$C$1004,$A22,Lançamentos!$G$5:$G$1004,DATE($B$2,2,1))) | D22: =IF($A22="","",SUMIFS(Lançamentos!$D$5:$D$1004,Lançamentos!$C$5:$C$1004,$A22,Lançamentos!$G$5:$G$1004,DATE($B$2,3,1))) | E22: =IF($A22="","",SUMIFS(Lançamentos!$D$5:$D$1004,Lançamentos!$C$5:$C$1004,$A22,Lançamentos!$G$5:$G$1004,DATE($B$2,4,1))) | F22: =IF($A22="","",SUMIFS(Lançamentos!$D$5:$D$1004,Lançamentos!$C$5:$C$1004,$A22,Lançamentos!$G$5:$G$1004,DATE($B$2,5,1))) | G22: =IF($A22="","",SUMIFS(Lançamentos!$D$5:$D$1004,Lançamentos!$C$5:$C$1004,$A22,Lançamentos!$G$5:$G$1004,DATE($B$2,6,1))) | H22: =IF($A22="","",SUMIFS(Lançamentos!$D$5:$D$1004,Lançamentos!$C$5:$C$1004,$A22,Lançamentos!$G$5:$G$1004,DATE($B$2,7,1))) | I22: =IF($A22="","",SUMIFS(Lançamentos!$D$5:$D$1004,Lançamentos!$C$5:$C$1004,$A22,Lançamentos!$G$5:$G$1004,DATE($B$2,8,1))) | J22: =IF($A22="","",SUMIFS(Lançamentos!$D$5:$D$1004,Lançamentos!$C$5:$C$1004,$A22,Lançamentos!$G$5:$G$1004,DATE($B$2,9,1))) | K22: =IF($A22="","",SUMIFS(Lançamentos!$D$5:$D$1004,Lançamentos!$C$5:$C$1004,$A22,Lançamentos!$G$5:$G$1004,DATE($B$2,10,1))) | L22: =IF($A22="","",SUMIFS(Lançamentos!$D$5:$D$1004,Lançamentos!$C$5:$C$1004,$A22,Lançamentos!$G$5:$G$1004,DATE($B$2,11,1))) | M22: =IF($A22="","",SUMIFS(Lançamentos!$D$5:$D$1004,Lançamentos!$C$5:$C$1004,$A22,Lançamentos!$G$5:$G$1004,DATE($B$2,12,1))) | N22: =IF($A22="","",SUM(B22:M22)) | O22: =IF(OR($A22="",$N$10=0),"",N22/$N$10) | P22: =IF($A22="","",Categorias!$C$13) | Q22: =IF(OR($A22="",O22="",P22=""),"",O22-P22)
A23: =IF(Categorias!$A$14="","",Categorias!$A$14) | B23: =IF($A23="","",SUMIFS(Lançamentos!$D$5:$D$1004,Lançamentos!$C$5:$C$1004,$A23,Lançamentos!$G$5:$G$1004,DATE($B$2,1,1))) | C23: =IF($A23="","",SUMIFS(Lançamentos!$D$5:$D$1004,Lançamentos!$C$5:$C$1004,$A23,Lançamentos!$G$5:$G$1004,DATE($B$2,2,1))) | D23: =IF($A23="","",SUMIFS(Lançamentos!$D$5:$D$1004,Lançamentos!$C$5:$C$1004,$A23,Lançamentos!$G$5:$G$1004,DATE($B$2,3,1))) | E23: =IF($A23="","",SUMIFS(Lançamentos!$D$5:$D$1004,Lançamentos!$C$5:$C$1004,$A23,Lançamentos!$G$5:$G$1004,DATE($B$2,4,1))) | F23: =IF($A23="","",SUMIFS(Lançamentos!$D$5:$D$1004,Lançamentos!$C$5:$C$1004,$A23,Lançamentos!$G$5:$G$1004,DATE($B$2,5,1))) | G23: =IF($A23="","",SUMIFS(Lançamentos!$D$5:$D$1004,Lançamentos!$C$5:$C$1004,$A23,Lançamentos!$G$5:$G$1004,DATE($B$2,6,1))) | H23: =IF($A23="","",SUMIFS(Lançamentos!$D$5:$D$1004,Lançamentos!$C$5:$C$1004,$A23,Lançamentos!$G$5:$G$1004,DATE($B$2,7,1))) | I23: =IF($A23="","",SUMIFS(Lançamentos!$D$5:$D$1004,Lançamentos!$C$5:$C$1004,$A23,Lançamentos!$G$5:$G$1004,DATE($B$2,8,1))) | J23: =IF($A23="","",SUMIFS(Lançamentos!$D$5:$D$1004,Lançamentos!$C$5:$C$1004,$A23,Lançamentos!$G$5:$G$1004,DATE($B$2,9,1))) | K23: =IF($A23="","",SUMIFS(Lançamentos!$D$5:$D$1004,Lançamentos!$C$5:$C$1004,$A23,Lançamentos!$G$5:$G$1004,DATE($B$2,10,1))) | L23: =IF($A23="","",SUMIFS(Lançamentos!$D$5:$D$1004,Lançamentos!$C$5:$C$1004,$A23,Lançamentos!$G$5:$G$1004,DATE($B$2,11,1))) | M23: =IF($A23="","",SUMIFS(Lançamentos!$D$5:$D$1004,Lançamentos!$C$5:$C$1004,$A23,Lançamentos!$G$5:$G$1004,DATE($B$2,12,1))) | N23: =IF($A23="","",SUM(B23:M23)) | O23: =IF(OR($A23="",$N$10=0),"",N23/$N$10) | P23: =IF($A23="","",Categorias!$C$14) | Q23: =IF(OR($A23="",O23="",P23=""),"",O23-P23)
A24: =IF(Categorias!$A$15="","",Categorias!$A$15) | B24: =IF($A24="","",SUMIFS(Lançamentos!$D$5:$D$1004,Lançamentos!$C$5:$C$1004,$A24,Lançamentos!$G$5:$G$1004,DATE($B$2,1,1))) | C24: =IF($A24="","",SUMIFS(Lançamentos!$D$5:$D$1004,Lançamentos!$C$5:$C$1004,$A24,Lançamentos!$G$5:$G$1004,DATE($B$2,2,1))) | D24: =IF($A24="","",SUMIFS(Lançamentos!$D$5:$D$1004,Lançamentos!$C$5:$C$1004,$A24,Lançamentos!$G$5:$G$1004,DATE($B$2,3,1))) | E24: =IF($A24="","",SUMIFS(Lançamentos!$D$5:$D$1004,Lançamentos!$C$5:$C$1004,$A24,Lançamentos!$G$5:$G$1004,DATE($B$2,4,1))) | F24: =IF($A24="","",SUMIFS(Lançamentos!$D$5:$D$1004,Lançamentos!$C$5:$C$1004,$A24,Lançamentos!$G$5:$G$1004,DATE($B$2,5,1))) | G24: =IF($A24="","",SUMIFS(Lançamentos!$D$5:$D$1004,Lançamentos!$C$5:$C$1004,$A24,Lançamentos!$G$5:$G$1004,DATE($B$2,6,1))) | H24: =IF($A24="","",SUMIFS(Lançamentos!$D$5:$D$1004,Lançamentos!$C$5:$C$1004,$A24,Lançamentos!$G$5:$G$1004,DATE($B$2,7,1))) | I24: =IF($A24="","",SUMIFS(Lançamentos!$D$5:$D$1004,Lançamentos!$C$5:$C$1004,$A24,Lançamentos!$G$5:$G$1004,DATE($B$2,8,1))) | J24: =IF($A24="","",SUMIFS(Lançamentos!$D$5:$D$1004,Lançamentos!$C$5:$C$1004,$A24,Lançamentos!$G$5:$G$1004,DATE($B$2,9,1))) | K24: =IF($A24="","",SUMIFS(Lançamentos!$D$5:$D$1004,Lançamentos!$C$5:$C$1004,$A24,Lançamentos!$G$5:$G$1004,DATE($B$2,10,1))) | L24: =IF($A24="","",SUMIFS(Lançamentos!$D$5:$D$1004,Lançamentos!$C$5:$C$1004,$A24,Lançamentos!$G$5:$G$1004,DATE($B$2,11,1))) | M24: =IF($A24="","",SUMIFS(Lançamentos!$D$5:$D$1004,Lançamentos!$C$5:$C$1004,$A24,Lançamentos!$G$5:$G$1004,DATE($B$2,12,1))) | N24: =IF($A24="","",SUM(B24:M24)) | O24: =IF(OR($A24="",$N$10=0),"",N24/$N$10) | P24: =IF($A24="","",Categorias!$C$15) | Q24: =IF(OR($A24="",O24="",P24=""),"",O24-P24)
A25: =IF(Categorias!$A$16="","",Categorias!$A$16) | B25: =IF($A25="","",SUMIFS(Lançamentos!$D$5:$D$1004,Lançamentos!$C$5:$C$1004,$A25,Lançamentos!$G$5:$G$1004,DATE($B$2,1,1))) | C25: =IF($A25="","",SUMIFS(Lançamentos!$D$5:$D$1004,Lançamentos!$C$5:$C$1004,$A25,Lançamentos!$G$5:$G$1004,DATE($B$2,2,1))) | D25: =IF($A25="","",SUMIFS(Lançamentos!$D$5:$D$1004,Lançamentos!$C$5:$C$1004,$A25,Lançamentos!$G$5:$G$1004,DATE($B$2,3,1))) | E25: =IF($A25="","",SUMIFS(Lançamentos!$D$5:$D$1004,Lançamentos!$C$5:$C$1004,$A25,Lançamentos!$G$5:$G$1004,DATE($B$2,4,1))) | F25: =IF($A25="","",SUMIFS(Lançamentos!$D$5:$D$1004,Lançamentos!$C$5:$C$1004,$A25,Lançamentos!$G$5:$G$1004,DATE($B$2,5,1))) | G25: =IF($A25="","",SUMIFS(Lançamentos!$D$5:$D$1004,Lançamentos!$C$5:$C$1004,$A25,Lançamentos!$G$5:$G$1004,DATE($B$2,6,1))) | H25: =IF($A25="","",SUMIFS(Lançamentos!$D$5:$D$1004,Lançamentos!$C$5:$C$1004,$A25,Lançamentos!$G$5:$G$1004,DATE($B$2,7,1))) | I25: =IF($A25="","",SUMIFS(Lançamentos!$D$5:$D$1004,Lançamentos!$C$5:$C$1004,$A25,Lançamentos!$G$5:$G$1004,DATE($B$2,8,1))) | J25: =IF($A25="","",SUMIFS(Lançamentos!$D$5:$D$1004,Lançamentos!$C$5:$C$1004,$A25,Lançamentos!$G$5:$G$1004,DATE($B$2,9,1))) | K25: =IF($A25="","",SUMIFS(Lançamentos!$D$5:$D$1004,Lançamentos!$C$5:$C$1004,$A25,Lançamentos!$G$5:$G$1004,DATE($B$2,10,1))) | L25: =IF($A25="","",SUMIFS(Lançamentos!$D$5:$D$1004,Lançamentos!$C$5:$C$1004,$A25,Lançamentos!$G$5:$G$1004,DATE($B$2,11,1))) | M25: =IF($A25="","",SUMIFS(Lançamentos!$D$5:$D$1004,Lançamentos!$C$5:$C$1004,$A25,Lançamentos!$G$5:$G$1004,DATE($B$2,12,1))) | N25: =IF($A25="","",SUM(B25:M25)) | O25: =IF(OR($A25="",$N$10=0),"",N25/$N$10) | P25: =IF($A25="","",Categorias!$C$16) | Q25: =IF(OR($A25="",O25="",P25=""),"",O25-P25)
A26: =IF(Categorias!$A$17="","",Categorias!$A$17) | B26: =IF($A26="","",SUMIFS(Lançamentos!$D$5:$D$1004,Lançamentos!$C$5:$C$1004,$A26,Lançamentos!$G$5:$G$1004,DATE($B$2,1,1))) | C26: =IF($A26="","",SUMIFS(Lançamentos!$D$5:$D$1004,Lançamentos!$C$5:$C$1004,$A26,Lançamentos!$G$5:$G$1004,DATE($B$2,2,1))) | D26: =IF($A26="","",SUMIFS(Lançamentos!$D$5:$D$1004,Lançamentos!$C$5:$C$1004,$A26,Lançamentos!$G$5:$G$1004,DATE($B$2,3,1))) | E26: =IF($A26="","",SUMIFS(Lançamentos!$D$5:$D$1004,Lançamentos!$C$5:$C$1004,$A26,Lançamentos!$G$5:$G$1004,DATE($B$2,4,1))) | F26: =IF($A26="","",SUMIFS(Lançamentos!$D$5:$D$1004,Lançamentos!$C$5:$C$1004,$A26,Lançamentos!$G$5:$G$1004,DATE($B$2,5,1))) | G26: =IF($A26="","",SUMIFS(Lançamentos!$D$5:$D$1004,Lançamentos!$C$5:$C$1004,$A26,Lançamentos!$G$5:$G$1004,DATE($B$2,6,1))) | H26: =IF($A26="","",SUMIFS(Lançamentos!$D$5:$D$1004,Lançamentos!$C$5:$C$1004,$A26,Lançamentos!$G$5:$G$1004,DATE($B$2,7,1))) | I26: =IF($A26="","",SUMIFS(Lançamentos!$D$5:$D$1004,Lançamentos!$C$5:$C$1004,$A26,Lançamentos!$G$5:$G$1004,DATE($B$2,8,1))) | J26: =IF($A26="","",SUMIFS(Lançamentos!$D$5:$D$1004,Lançamentos!$C$5:$C$1004,$A26,Lançamentos!$G$5:$G$1004,DATE($B$2,9,1))) | K26: =IF($A26="","",SUMIFS(Lançamentos!$D$5:$D$1004,Lançamentos!$C$5:$C$1004,$A26,Lançamentos!$G$5:$G$1004,DATE($B$2,10,1))) | L26: =IF($A26="","",SUMIFS(Lançamentos!$D$5:$D$1004,Lançamentos!$C$5:$C$1004,$A26,Lançamentos!$G$5:$G$1004,DATE($B$2,11,1))) | M26: =IF($A26="","",SUMIFS(Lançamentos!$D$5:$D$1004,Lançamentos!$C$5:$C$1004,$A26,Lançamentos!$G$5:$G$1004,DATE($B$2,12,1))) | N26: =IF($A26="","",SUM(B26:M26)) | O26: =IF(OR($A26="",$N$10=0),"",N26/$N$10) | P26: =IF($A26="","",Categorias!$C$17) | Q26: =IF(OR($A26="",O26="",P26=""),"",O26-P26)
A27: =IF(Categorias!$A$18="","",Categorias!$A$18) | B27: =IF($A27="","",SUMIFS(Lançamentos!$D$5:$D$1004,Lançamentos!$C$5:$C$1004,$A27,Lançamentos!$G$5:$G$1004,DATE($B$2,1,1))) | C27: =IF($A27="","",SUMIFS(Lançamentos!$D$5:$D$1004,Lançamentos!$C$5:$C$1004,$A27,Lançamentos!$G$5:$G$1004,DATE($B$2,2,1))) | D27: =IF($A27="","",SUMIFS(Lançamentos!$D$5:$D$1004,Lançamentos!$C$5:$C$1004,$A27,Lançamentos!$G$5:$G$1004,DATE($B$2,3,1))) | E27: =IF($A27="","",SUMIFS(Lançamentos!$D$5:$D$1004,Lançamentos!$C$5:$C$1004,$A27,Lançamentos!$G$5:$G$1004,DATE($B$2,4,1))) | F27: =IF($A27="","",SUMIFS(Lançamentos!$D$5:$D$1004,Lançamentos!$C$5:$C$1004,$A27,Lançamentos!$G$5:$G$1004,DATE($B$2,5,1))) | G27: =IF($A27="","",SUMIFS(Lançamentos!$D$5:$D$1004,Lançamentos!$C$5:$C$1004,$A27,Lançamentos!$G$5:$G$1004,DATE($B$2,6,1))) | H27: =IF($A27="","",SUMIFS(Lançamentos!$D$5:$D$1004,Lançamentos!$C$5:$C$1004,$A27,Lançamentos!$G$5:$G$1004,DATE($B$2,7,1))) | I27: =IF($A27="","",SUMIFS(Lançamentos!$D$5:$D$1004,Lançamentos!$C$5:$C$1004,$A27,Lançamentos!$G$5:$G$1004,DATE($B$2,8,1))) | J27: =IF($A27="","",SUMIFS(Lançamentos!$D$5:$D$1004,Lançamentos!$C$5:$C$1004,$A27,Lançamentos!$G$5:$G$1004,DATE($B$2,9,1))) | K27: =IF($A27="","",SUMIFS(Lançamentos!$D$5:$D$1004,Lançamentos!$C$5:$C$1004,$A27,Lançamentos!$G$5:$G$1004,DATE($B$2,10,1))) | L27: =IF($A27="","",SUMIFS(Lançamentos!$D$5:$D$1004,Lançamentos!$C$5:$C$1004,$A27,Lançamentos!$G$5:$G$1004,DATE($B$2,11,1))) | M27: =IF($A27="","",SUMIFS(Lançamentos!$D$5:$D$1004,Lançamentos!$C$5:$C$1004,$A27,Lançamentos!$G$5:$G$1004,DATE($B$2,12,1))) | N27: =IF($A27="","",SUM(B27:M27)) | O27: =IF(OR($A27="",$N$10=0),"",N27/$N$10) | P27: =IF($A27="","",Categorias!$C$18) | Q27: =IF(OR($A27="",O27="",P27=""),"",O27-P27)
A28: =IF(Categorias!$A$19="","",Categorias!$A$19) | B28: =IF($A28="","",SUMIFS(Lançamentos!$D$5:$D$1004,Lançamentos!$C$5:$C$1004,$A28,Lançamentos!$G$5:$G$1004,DATE($B$2,1,1))) | C28: =IF($A28="","",SUMIFS(Lançamentos!$D$5:$D$1004,Lançamentos!$C$5:$C$1004,$A28,Lançamentos!$G$5:$G$1004,DATE($B$2,2,1))) | D28: =IF($A28="","",SUMIFS(Lançamentos!$D$5:$D$1004,Lançamentos!$C$5:$C$1004,$A28,Lançamentos!$G$5:$G$1004,DATE($B$2,3,1))) | E28: =IF($A28="","",SUMIFS(Lançamentos!$D$5:$D$1004,Lançamentos!$C$5:$C$1004,$A28,Lançamentos!$G$5:$G$1004,DATE($B$2,4,1))) | F28: =IF($A28="","",SUMIFS(Lançamentos!$D$5:$D$1004,Lançamentos!$C$5:$C$1004,$A28,Lançamentos!$G$5:$G$1004,DATE($B$2,5,1))) | G28: =IF($A28="","",SUMIFS(Lançamentos!$D$5:$D$1004,Lançamentos!$C$5:$C$1004,$A28,Lançamentos!$G$5:$G$1004,DATE($B$2,6,1))) | H28: =IF($A28="","",SUMIFS(Lançamentos!$D$5:$D$1004,Lançamentos!$C$5:$C$1004,$A28,Lançamentos!$G$5:$G$1004,DATE($B$2,7,1))) | I28: =IF($A28="","",SUMIFS(Lançamentos!$D$5:$D$1004,Lançamentos!$C$5:$C$1004,$A28,Lançamentos!$G$5:$G$1004,DATE($B$2,8,1))) | J28: =IF($A28="","",SUMIFS(Lançamentos!$D$5:$D$1004,Lançamentos!$C$5:$C$1004,$A28,Lançamentos!$G$5:$G$1004,DATE($B$2,9,1))) | K28: =IF($A28="","",SUMIFS(Lançamentos!$D$5:$D$1004,Lançamentos!$C$5:$C$1004,$A28,Lançamentos!$G$5:$G$1004,DATE($B$2,10,1))) | L28: =IF($A28="","",SUMIFS(Lançamentos!$D$5:$D$1004,Lançamentos!$C$5:$C$1004,$A28,Lançamentos!$G$5:$G$1004,DATE($B$2,11,1))) | M28: =IF($A28="","",SUMIFS(Lançamentos!$D$5:$D$1004,Lançamentos!$C$5:$C$1004,$A28,Lançamentos!$G$5:$G$1004,DATE($B$2,12,1))) | N28: =IF($A28="","",SUM(B28:M28)) | O28: =IF(OR($A28="",$N$10=0),"",N28/$N$10) | P28: =IF($A28="","",Categorias!$C$19) | Q28: =IF(OR($A28="",O28="",P28=""),"",O28-P28)
A29: =IF(Categorias!$A$20="","",Categorias!$A$20) | B29: =IF($A29="","",SUMIFS(Lançamentos!$D$5:$D$1004,Lançamentos!$C$5:$C$1004,$A29,Lançamentos!$G$5:$G$1004,DATE($B$2,1,1))) | C29: =IF($A29="","",SUMIFS(Lançamentos!$D$5:$D$1004,Lançamentos!$C$5:$C$1004,$A29,Lançamentos!$G$5:$G$1004,DATE($B$2,2,1))) | D29: =IF($A29="","",SUMIFS(Lançamentos!$D$5:$D$1004,Lançamentos!$C$5:$C$1004,$A29,Lançamentos!$G$5:$G$1004,DATE($B$2,3,1))) | E29: =IF($A29="","",SUMIFS(Lançamentos!$D$5:$D$1004,Lançamentos!$C$5:$C$1004,$A29,Lançamentos!$G$5:$G$1004,DATE($B$2,4,1))) | F29: =IF($A29="","",SUMIFS(Lançamentos!$D$5:$D$1004,Lançamentos!$C$5:$C$1004,$A29,Lançamentos!$G$5:$G$1004,DATE($B$2,5,1))) | G29: =IF($A29="","",SUMIFS(Lançamentos!$D$5:$D$1004,Lançamentos!$C$5:$C$1004,$A29,Lançamentos!$G$5:$G$1004,DATE($B$2,6,1))) | H29: =IF($A29="","",SUMIFS(Lançamentos!$D$5:$D$1004,Lançamentos!$C$5:$C$1004,$A29,Lançamentos!$G$5:$G$1004,DATE($B$2,7,1))) | I29: =IF($A29="","",SUMIFS(Lançamentos!$D$5:$D$1004,Lançamentos!$C$5:$C$1004,$A29,Lançamentos!$G$5:$G$1004,DATE($B$2,8,1))) | J29: =IF($A29="","",SUMIFS(Lançamentos!$D$5:$D$1004,Lançamentos!$C$5:$C$1004,$A29,Lançamentos!$G$5:$G$1004,DATE($B$2,9,1))) | K29: =IF($A29="","",SUMIFS(Lançamentos!$D$5:$D$1004,Lançamentos!$C$5:$C$1004,$A29,Lançamentos!$G$5:$G$1004,DATE($B$2,10,1))) | L29: =IF($A29="","",SUMIFS(Lançamentos!$D$5:$D$1004,Lançamentos!$C$5:$C$1004,$A29,Lançamentos!$G$5:$G$1004,DATE($B$2,11,1))) | M29: =IF($A29="","",SUMIFS(Lançamentos!$D$5:$D$1004,Lançamentos!$C$5:$C$1004,$A29,Lançamentos!$G$5:$G$1004,DATE($B$2,12,1))) | N29: =IF($A29="","",SUM(B29:M29)) | O29: =IF(OR($A29="",$N$10=0),"",N29/$N$10) | P29: =IF($A29="","",Categorias!$C$20) | Q29: =IF(OR($A29="",O29="",P29=""),"",O29-P29)
A30: =IF(Categorias!$A$21="","",Categorias!$A$21) | B30: =IF($A30="","",SUMIFS(Lançamentos!$D$5:$D$1004,Lançamentos!$C$5:$C$1004,$A30,Lançamentos!$G$5:$G$1004,DATE($B$2,1,1))) | C30: =IF($A30="","",SUMIFS(Lançamentos!$D$5:$D$1004,Lançamentos!$C$5:$C$1004,$A30,Lançamentos!$G$5:$G$1004,DATE($B$2,2,1))) | D30: =IF($A30="","",SUMIFS(Lançamentos!$D$5:$D$1004,Lançamentos!$C$5:$C$1004,$A30,Lançamentos!$G$5:$G$1004,DATE($B$2,3,1))) | E30: =IF($A30="","",SUMIFS(Lançamentos!$D$5:$D$1004,Lançamentos!$C$5:$C$1004,$A30,Lançamentos!$G$5:$G$1004,DATE($B$2,4,1))) | F30: =IF($A30="","",SUMIFS(Lançamentos!$D$5:$D$1004,Lançamentos!$C$5:$C$1004,$A30,Lançamentos!$G$5:$G$1004,DATE($B$2,5,1))) | G30: =IF($A30="","",SUMIFS(Lançamentos!$D$5:$D$1004,Lançamentos!$C$5:$C$1004,$A30,Lançamentos!$G$5:$G$1004,DATE($B$2,6,1))) | H30: =IF($A30="","",SUMIFS(Lançamentos!$D$5:$D$1004,Lançamentos!$C$5:$C$1004,$A30,Lançamentos!$G$5:$G$1004,DATE($B$2,7,1))) | I30: =IF($A30="","",SUMIFS(Lançamentos!$D$5:$D$1004,Lançamentos!$C$5:$C$1004,$A30,Lançamentos!$G$5:$G$1004,DATE($B$2,8,1))) | J30: =IF($A30="","",SUMIFS(Lançamentos!$D$5:$D$1004,Lançamentos!$C$5:$C$1004,$A30,Lançamentos!$G$5:$G$1004,DATE($B$2,9,1))) | K30: =IF($A30="","",SUMIFS(Lançamentos!$D$5:$D$1004,Lançamentos!$C$5:$C$1004,$A30,Lançamentos!$G$5:$G$1004,DATE($B$2,10,1))) | L30: =IF($A30="","",SUMIFS(Lançamentos!$D$5:$D$1004,Lançamentos!$C$5:$C$1004,$A30,Lançamentos!$G$5:$G$1004,DATE($B$2,11,1))) | M30: =IF($A30="","",SUMIFS(Lançamentos!$D$5:$D$1004,Lançamentos!$C$5:$C$1004,$A30,Lançamentos!$G$5:$G$1004,DATE($B$2,12,1))) | N30: =IF($A30="","",SUM(B30:M30)) | O30: =IF(OR($A30="",$N$10=0),"",N30/$N$10) | P30: =IF($A30="","",Categorias!$C$21) | Q30: =IF(OR($A30="",O30="",P30=""),"",O30-P30)
A31: =IF(Categorias!$A$22="","",Categorias!$A$22) | B31: =IF($A31="","",SUMIFS(Lançamentos!$D$5:$D$1004,Lançamentos!$C$5:$C$1004,$A31,Lançamentos!$G$5:$G$1004,DATE($B$2,1,1))) | C31: =IF($A31="","",SUMIFS(Lançamentos!$D$5:$D$1004,Lançamentos!$C$5:$C$1004,$A31,Lançamentos!$G$5:$G$1004,DATE($B$2,2,1))) | D31: =IF($A31="","",SUMIFS(Lançamentos!$D$5:$D$1004,Lançamentos!$C$5:$C$1004,$A31,Lançamentos!$G$5:$G$1004,DATE($B$2,3,1))) | E31: =IF($A31="","",SUMIFS(Lançamentos!$D$5:$D$1004,Lançamentos!$C$5:$C$1004,$A31,Lançamentos!$G$5:$G$1004,DATE($B$2,4,1))) | F31: =IF($A31="","",SUMIFS(Lançamentos!$D$5:$D$1004,Lançamentos!$C$5:$C$1004,$A31,Lançamentos!$G$5:$G$1004,DATE($B$2,5,1))) | G31: =IF($A31="","",SUMIFS(Lançamentos!$D$5:$D$1004,Lançamentos!$C$5:$C$1004,$A31,Lançamentos!$G$5:$G$1004,DATE($B$2,6,1))) | H31: =IF($A31="","",SUMIFS(Lançamentos!$D$5:$D$1004,Lançamentos!$C$5:$C$1004,$A31,Lançamentos!$G$5:$G$1004,DATE($B$2,7,1))) | I31: =IF($A31="","",SUMIFS(Lançamentos!$D$5:$D$1004,Lançamentos!$C$5:$C$1004,$A31,Lançamentos!$G$5:$G$1004,DATE($B$2,8,1))) | J31: =IF($A31="","",SUMIFS(Lançamentos!$D$5:$D$1004,Lançamentos!$C$5:$C$1004,$A31,Lançamentos!$G$5:$G$1004,DATE($B$2,9,1))) | K31: =IF($A31="","",SUMIFS(Lançamentos!$D$5:$D$1004,Lançamentos!$C$5:$C$1004,$A31,Lançamentos!$G$5:$G$1004,DATE($B$2,10,1))) | L31: =IF($A31="","",SUMIFS(Lançamentos!$D$5:$D$1004,Lançamentos!$C$5:$C$1004,$A31,Lançamentos!$G$5:$G$1004,DATE($B$2,11,1))) | M31: =IF($A31="","",SUMIFS(Lançamentos!$D$5:$D$1004,Lançamentos!$C$5:$C$1004,$A31,Lançamentos!$G$5:$G$1004,DATE($B$2,12,1))) | N31: =IF($A31="","",SUM(B31:M31)) | O31: =IF(OR($A31="",$N$10=0),"",N31/$N$10) | P31: =IF($A31="","",Categorias!$C$22) | Q31: =IF(OR($A31="",O31="",P31=""),"",O31-P31)
A32: =IF(Categorias!$A$23="","",Categorias!$A$23) | B32: =IF($A32="","",SUMIFS(Lançamentos!$D$5:$D$1004,Lançamentos!$C$5:$C$1004,$A32,Lançamentos!$G$5:$G$1004,DATE($B$2,1,1))) | C32: =IF($A32="","",SUMIFS(Lançamentos!$D$5:$D$1004,Lançamentos!$C$5:$C$1004,$A32,Lançamentos!$G$5:$G$1004,DATE($B$2,2,1))) | D32: =IF($A32="","",SUMIFS(Lançamentos!$D$5:$D$1004,Lançamentos!$C$5:$C$1004,$A32,Lançamentos!$G$5:$G$1004,DATE($B$2,3,1))) | E32: =IF($A32="","",SUMIFS(Lançamentos!$D$5:$D$1004,Lançamentos!$C$5:$C$1004,$A32,Lançamentos!$G$5:$G$1004,DATE($B$2,4,1))) | F32: =IF($A32="","",SUMIFS(Lançamentos!$D$5:$D$1004,Lançamentos!$C$5:$C$1004,$A32,Lançamentos!$G$5:$G$1004,DATE($B$2,5,1))) | G32: =IF($A32="","",SUMIFS(Lançamentos!$D$5:$D$1004,Lançamentos!$C$5:$C$1004,$A32,Lançamentos!$G$5:$G$1004,DATE($B$2,6,1))) | H32: =IF($A32="","",SUMIFS(Lançamentos!$D$5:$D$1004,Lançamentos!$C$5:$C$1004,$A32,Lançamentos!$G$5:$G$1004,DATE($B$2,7,1))) | I32: =IF($A32="","",SUMIFS(Lançamentos!$D$5:$D$1004,Lançamentos!$C$5:$C$1004,$A32,Lançamentos!$G$5:$G$1004,DATE($B$2,8,1))) | J32: =IF($A32="","",SUMIFS(Lançamentos!$D$5:$D$1004,Lançamentos!$C$5:$C$1004,$A32,Lançamentos!$G$5:$G$1004,DATE($B$2,9,1))) | K32: =IF($A32="","",SUMIFS(Lançamentos!$D$5:$D$1004,Lançamentos!$C$5:$C$1004,$A32,Lançamentos!$G$5:$G$1004,DATE($B$2,10,1))) | L32: =IF($A32="","",SUMIFS(Lançamentos!$D$5:$D$1004,Lançamentos!$C$5:$C$1004,$A32,Lançamentos!$G$5:$G$1004,DATE($B$2,11,1))) | M32: =IF($A32="","",SUMIFS(Lançamentos!$D$5:$D$1004,Lançamentos!$C$5:$C$1004,$A32,Lançamentos!$G$5:$G$1004,DATE($B$2,12,1))) | N32: =IF($A32="","",SUM(B32:M32)) | O32: =IF(OR($A32="",$N$10=0),"",N32/$N$10) | P32: =IF($A32="","",Categorias!$C$23) | Q32: =IF(OR($A32="",O32="",P32=""),"",O32-P32)
A33: =IF(Categorias!$A$24="","",Categorias!$A$24) | B33: =IF($A33="","",SUMIFS(Lançamentos!$D$5:$D$1004,Lançamentos!$C$5:$C$1004,$A33,Lançamentos!$G$5:$G$1004,DATE($B$2,1,1))) | C33: =IF($A33="","",SUMIFS(Lançamentos!$D$5:$D$1004,Lançamentos!$C$5:$C$1004,$A33,Lançamentos!$G$5:$G$1004,DATE($B$2,2,1))) | D33: =IF($A33="","",SUMIFS(Lançamentos!$D$5:$D$1004,Lançamentos!$C$5:$C$1004,$A33,Lançamentos!$G$5:$G$1004,DATE($B$2,3,1))) | E33: =IF($A33="","",SUMIFS(Lançamentos!$D$5:$D$1004,Lançamentos!$C$5:$C$1004,$A33,Lançamentos!$G$5:$G$1004,DATE($B$2,4,1))) | F33: =IF($A33="","",SUMIFS(Lançamentos!$D$5:$D$1004,Lançamentos!$C$5:$C$1004,$A33,Lançamentos!$G$5:$G$1004,DATE($B$2,5,1))) | G33: =IF($A33="","",SUMIFS(Lançamentos!$D$5:$D$1004,Lançamentos!$C$5:$C$1004,$A33,Lançamentos!$G$5:$G$1004,DATE($B$2,6,1))) | H33: =IF($A33="","",SUMIFS(Lançamentos!$D$5:$D$1004,Lançamentos!$C$5:$C$1004,$A33,Lançamentos!$G$5:$G$1004,DATE($B$2,7,1))) | I33: =IF($A33="","",SUMIFS(Lançamentos!$D$5:$D$1004,Lançamentos!$C$5:$C$1004,$A33,Lançamentos!$G$5:$G$1004,DATE($B$2,8,1))) | J33: =IF($A33="","",SUMIFS(Lançamentos!$D$5:$D$1004,Lançamentos!$C$5:$C$1004,$A33,Lançamentos!$G$5:$G$1004,DATE($B$2,9,1))) | K33: =IF($A33="","",SUMIFS(Lançamentos!$D$5:$D$1004,Lançamentos!$C$5:$C$1004,$A33,Lançamentos!$G$5:$G$1004,DATE($B$2,10,1))) | L33: =IF($A33="","",SUMIFS(Lançamentos!$D$5:$D$1004,Lançamentos!$C$5:$C$1004,$A33,Lançamentos!$G$5:$G$1004,DATE($B$2,11,1))) | M33: =IF($A33="","",SUMIFS(Lançamentos!$D$5:$D$1004,Lançamentos!$C$5:$C$1004,$A33,Lançamentos!$G$5:$G$1004,DATE($B$2,12,1))) | N33: =IF($A33="","",SUM(B33:M33)) | O33: =IF(OR($A33="",$N$10=0),"",N33/$N$10) | P33: =IF($A33="","",Categorias!$C$24) | Q33: =IF(OR($A33="",O33="",P33=""),"",O33-P33)
A34: =IF(Categorias!$A$25="","",Categorias!$A$25) | B34: =IF($A34="","",SUMIFS(Lançamentos!$D$5:$D$1004,Lançamentos!$C$5:$C$1004,$A34,Lançamentos!$G$5:$G$1004,DATE($B$2,1,1))) | C34: =IF($A34="","",SUMIFS(Lançamentos!$D$5:$D$1004,Lançamentos!$C$5:$C$1004,$A34,Lançamentos!$G$5:$G$1004,DATE($B$2,2,1))) | D34: =IF($A34="","",SUMIFS(Lançamentos!$D$5:$D$1004,Lançamentos!$C$5:$C$1004,$A34,Lançamentos!$G$5:$G$1004,DATE($B$2,3,1))) | E34: =IF($A34="","",SUMIFS(Lançamentos!$D$5:$D$1004,Lançamentos!$C$5:$C$1004,$A34,Lançamentos!$G$5:$G$1004,DATE($B$2,4,1))) | F34: =IF($A34="","",SUMIFS(Lançamentos!$D$5:$D$1004,Lançamentos!$C$5:$C$1004,$A34,Lançamentos!$G$5:$G$1004,DATE($B$2,5,1))) | G34: =IF($A34="","",SUMIFS(Lançamentos!$D$5:$D$1004,Lançamentos!$C$5:$C$1004,$A34,Lançamentos!$G$5:$G$1004,DATE($B$2,6,1))) | H34: =IF($A34="","",SUMIFS(Lançamentos!$D$5:$D$1004,Lançamentos!$C$5:$C$1004,$A34,Lançamentos!$G$5:$G$1004,DATE($B$2,7,1))) | I34: =IF($A34="","",SUMIFS(Lançamentos!$D$5:$D$1004,Lançamentos!$C$5:$C$1004,$A34,Lançamentos!$G$5:$G$1004,DATE($B$2,8,1))) | J34: =IF($A34="","",SUMIFS(Lançamentos!$D$5:$D$1004,Lançamentos!$C$5:$C$1004,$A34,Lançamentos!$G$5:$G$1004,DATE($B$2,9,1))) | K34: =IF($A34="","",SUMIFS(Lançamentos!$D$5:$D$1004,Lançamentos!$C$5:$C$1004,$A34,Lançamentos!$G$5:$G$1004,DATE($B$2,10,1))) | L34: =IF($A34="","",SUMIFS(Lançamentos!$D$5:$D$1004,Lançamentos!$C$5:$C$1004,$A34,Lançamentos!$G$5:$G$1004,DATE($B$2,11,1))) | M34: =IF($A34="","",SUMIFS(Lançamentos!$D$5:$D$1004,Lançamentos!$C$5:$C$1004,$A34,Lançamentos!$G$5:$G$1004,DATE($B$2,12,1))) | N34: =IF($A34="","",SUM(B34:M34)) | O34: =IF(OR($A34="",$N$10=0),"",N34/$N$10) | P34: =IF($A34="","",Categorias!$C$25) | Q34: =IF(OR($A34="",O34="",P34=""),"",O34-P34)
A35: =IF(Categorias!$A$26="","",Categorias!$A$26) | B35: =IF($A35="","",SUMIFS(Lançamentos!$D$5:$D$1004,Lançamentos!$C$5:$C$1004,$A35,Lançamentos!$G$5:$G$1004,DATE($B$2,1,1))) | C35: =IF($A35="","",SUMIFS(Lançamentos!$D$5:$D$1004,Lançamentos!$C$5:$C$1004,$A35,Lançamentos!$G$5:$G$1004,DATE($B$2,2,1))) | D35: =IF($A35="","",SUMIFS(Lançamentos!$D$5:$D$1004,Lançamentos!$C$5:$C$1004,$A35,Lançamentos!$G$5:$G$1004,DATE($B$2,3,1))) | E35: =IF($A35="","",SUMIFS(Lançamentos!$D$5:$D$1004,Lançamentos!$C$5:$C$1004,$A35,Lançamentos!$G$5:$G$1004,DATE($B$2,4,1))) | F35: =IF($A35="","",SUMIFS(Lançamentos!$D$5:$D$1004,Lançamentos!$C$5:$C$1004,$A35,Lançamentos!$G$5:$G$1004,DATE($B$2,5,1))) | G35: =IF($A35="","",SUMIFS(Lançamentos!$D$5:$D$1004,Lançamentos!$C$5:$C$1004,$A35,Lançamentos!$G$5:$G$1004,DATE($B$2,6,1))) | H35: =IF($A35="","",SUMIFS(Lançamentos!$D$5:$D$1004,Lançamentos!$C$5:$C$1004,$A35,Lançamentos!$G$5:$G$1004,DATE($B$2,7,1))) | I35: =IF($A35="","",SUMIFS(Lançamentos!$D$5:$D$1004,Lançamentos!$C$5:$C$1004,$A35,Lançamentos!$G$5:$G$1004,DATE($B$2,8,1))) | J35: =IF($A35="","",SUMIFS(Lançamentos!$D$5:$D$1004,Lançamentos!$C$5:$C$1004,$A35,Lançamentos!$G$5:$G$1004,DATE($B$2,9,1))) | K35: =IF($A35="","",SUMIFS(Lançamentos!$D$5:$D$1004,Lançamentos!$C$5:$C$1004,$A35,Lançamentos!$G$5:$G$1004,DATE($B$2,10,1))) | L35: =IF($A35="","",SUMIFS(Lançamentos!$D$5:$D$1004,Lançamentos!$C$5:$C$1004,$A35,Lançamentos!$G$5:$G$1004,DATE($B$2,11,1))) | M35: =IF($A35="","",SUMIFS(Lançamentos!$D$5:$D$1004,Lançamentos!$C$5:$C$1004,$A35,Lançamentos!$G$5:$G$1004,DATE($B$2,12,1))) | N35: =IF($A35="","",SUM(B35:M35)) | O35: =IF(OR($A35="",$N$10=0),"",N35/$N$10) | P35: =IF($A35="","",Categorias!$C$26) | Q35: =IF(OR($A35="",O35="",P35=""),"",O35-P35)
A36: =IF(Categorias!$A$27="","",Categorias!$A$27) | B36: =IF($A36="","",SUMIFS(Lançamentos!$D$5:$D$1004,Lançamentos!$C$5:$C$1004,$A36,Lançamentos!$G$5:$G$1004,DATE($B$2,1,1))) | C36: =IF($A36="","",SUMIFS(Lançamentos!$D$5:$D$1004,Lançamentos!$C$5:$C$1004,$A36,Lançamentos!$G$5:$G$1004,DATE($B$2,2,1))) | D36: =IF($A36="","",SUMIFS(Lançamentos!$D$5:$D$1004,Lançamentos!$C$5:$C$1004,$A36,Lançamentos!$G$5:$G$1004,DATE($B$2,3,1))) | E36: =IF($A36="","",SUMIFS(Lançamentos!$D$5:$D$1004,Lançamentos!$C$5:$C$1004,$A36,Lançamentos!$G$5:$G$1004,DATE($B$2,4,1))) | F36: =IF($A36="","",SUMIFS(Lançamentos!$D$5:$D$1004,Lançamentos!$C$5:$C$1004,$A36,Lançamentos!$G$5:$G$1004,DATE($B$2,5,1))) | G36: =IF($A36="","",SUMIFS(Lançamentos!$D$5:$D$1004,Lançamentos!$C$5:$C$1004,$A36,Lançamentos!$G$5:$G$1004,DATE($B$2,6,1))) | H36: =IF($A36="","",SUMIFS(Lançamentos!$D$5:$D$1004,Lançamentos!$C$5:$C$1004,$A36,Lançamentos!$G$5:$G$1004,DATE($B$2,7,1))) | I36: =IF($A36="","",SUMIFS(Lançamentos!$D$5:$D$1004,Lançamentos!$C$5:$C$1004,$A36,Lançamentos!$G$5:$G$1004,DATE($B$2,8,1))) | J36: =IF($A36="","",SUMIFS(Lançamentos!$D$5:$D$1004,Lançamentos!$C$5:$C$1004,$A36,Lançamentos!$G$5:$G$1004,DATE($B$2,9,1))) | K36: =IF($A36="","",SUMIFS(Lançamentos!$D$5:$D$1004,Lançamentos!$C$5:$C$1004,$A36,Lançamentos!$G$5:$G$1004,DATE($B$2,10,1))) | L36: =IF($A36="","",SUMIFS(Lançamentos!$D$5:$D$1004,Lançamentos!$C$5:$C$1004,$A36,Lançamentos!$G$5:$G$1004,DATE($B$2,11,1))) | M36: =IF($A36="","",SUMIFS(Lançamentos!$D$5:$D$1004,Lançamentos!$C$5:$C$1004,$A36,Lançamentos!$G$5:$G$1004,DATE($B$2,12,1))) | N36: =IF($A36="","",SUM(B36:M36)) | O36: =IF(OR($A36="",$N$10=0),"",N36/$N$10) | P36: =IF($A36="","",Categorias!$C$27) | Q36: =IF(OR($A36="",O36="",P36=""),"",O36-P36)
A37: =IF(Categorias!$A$28="","",Categorias!$A$28) | B37: =IF($A37="","",SUMIFS(Lançamentos!$D$5:$D$1004,Lançamentos!$C$5:$C$1004,$A37,Lançamentos!$G$5:$G$1004,DATE($B$2,1,1))) | C37: =IF($A37="","",SUMIFS(Lançamentos!$D$5:$D$1004,Lançamentos!$C$5:$C$1004,$A37,Lançamentos!$G$5:$G$1004,DATE($B$2,2,1))) | D37: =IF($A37="","",SUMIFS(Lançamentos!$D$5:$D$1004,Lançamentos!$C$5:$C$1004,$A37,Lançamentos!$G$5:$G$1004,DATE($B$2,3,1))) | E37: =IF($A37="","",SUMIFS(Lançamentos!$D$5:$D$1004,Lançamentos!$C$5:$C$1004,$A37,Lançamentos!$G$5:$G$1004,DATE($B$2,4,1))) | F37: =IF($A37="","",SUMIFS(Lançamentos!$D$5:$D$1004,Lançamentos!$C$5:$C$1004,$A37,Lançamentos!$G$5:$G$1004,DATE($B$2,5,1))) | G37: =IF($A37="","",SUMIFS(Lançamentos!$D$5:$D$1004,Lançamentos!$C$5:$C$1004,$A37,Lançamentos!$G$5:$G$1004,DATE($B$2,6,1))) | H37: =IF($A37="","",SUMIFS(Lançamentos!$D$5:$D$1004,Lançamentos!$C$5:$C$1004,$A37,Lançamentos!$G$5:$G$1004,DATE($B$2,7,1))) | I37: =IF($A37="","",SUMIFS(Lançamentos!$D$5:$D$1004,Lançamentos!$C$5:$C$1004,$A37,Lançamentos!$G$5:$G$1004,DATE($B$2,8,1))) | J37: =IF($A37="","",SUMIFS(Lançamentos!$D$5:$D$1004,Lançamentos!$C$5:$C$1004,$A37,Lançamentos!$G$5:$G$1004,DATE($B$2,9,1))) | K37: =IF($A37="","",SUMIFS(Lançamentos!$D$5:$D$1004,Lançamentos!$C$5:$C$1004,$A37,Lançamentos!$G$5:$G$1004,DATE($B$2,10,1))) | L37: =IF($A37="","",SUMIFS(Lançamentos!$D$5:$D$1004,Lançamentos!$C$5:$C$1004,$A37,Lançamentos!$G$5:$G$1004,DATE($B$2,11,1))) | M37: =IF($A37="","",SUMIFS(Lançamentos!$D$5:$D$1004,Lançamentos!$C$5:$C$1004,$A37,Lançamentos!$G$5:$G$1004,DATE($B$2,12,1))) | N37: =IF($A37="","",SUM(B37:M37)) | O37: =IF(OR($A37="",$N$10=0),"",N37/$N$10) | P37: =IF($A37="","",Categorias!$C$28) | Q37: =IF(OR($A37="",O37="",P37=""),"",O37-P37)
A38: =IF(Categorias!$A$29="","",Categorias!$A$29) | B38: =IF($A38="","",SUMIFS(Lançamentos!$D$5:$D$1004,Lançamentos!$C$5:$C$1004,$A38,Lançamentos!$G$5:$G$1004,DATE($B$2,1,1))) | C38: =IF($A38="","",SUMIFS(Lançamentos!$D$5:$D$1004,Lançamentos!$C$5:$C$1004,$A38,Lançamentos!$G$5:$G$1004,DATE($B$2,2,1))) | D38: =IF($A38="","",SUMIFS(Lançamentos!$D$5:$D$1004,Lançamentos!$C$5:$C$1004,$A38,Lançamentos!$G$5:$G$1004,DATE($B$2,3,1))) | E38: =IF($A38="","",SUMIFS(Lançamentos!$D$5:$D$1004,Lançamentos!$C$5:$C$1004,$A38,Lançamentos!$G$5:$G$1004,DATE($B$2,4,1))) | F38: =IF($A38="","",SUMIFS(Lançamentos!$D$5:$D$1004,Lançamentos!$C$5:$C$1004,$A38,Lançamentos!$G$5:$G$1004,DATE($B$2,5,1))) | G38: =IF($A38="","",SUMIFS(Lançamentos!$D$5:$D$1004,Lançamentos!$C$5:$C$1004,$A38,Lançamentos!$G$5:$G$1004,DATE($B$2,6,1))) | H38: =IF($A38="","",SUMIFS(Lançamentos!$D$5:$D$1004,Lançamentos!$C$5:$C$1004,$A38,Lançamentos!$G$5:$G$1004,DATE($B$2,7,1))) | I38: =IF($A38="","",SUMIFS(Lançamentos!$D$5:$D$1004,Lançamentos!$C$5:$C$1004,$A38,Lançamentos!$G$5:$G$1004,DATE($B$2,8,1))) | J38: =IF($A38="","",SUMIFS(Lançamentos!$D$5:$D$1004,Lançamentos!$C$5:$C$1004,$A38,Lançamentos!$G$5:$G$1004,DATE($B$2,9,1))) | K38: =IF($A38="","",SUMIFS(Lançamentos!$D$5:$D$1004,Lançamentos!$C$5:$C$1004,$A38,Lançamentos!$G$5:$G$1004,DATE($B$2,10,1))) | L38: =IF($A38="","",SUMIFS(Lançamentos!$D$5:$D$1004,Lançamentos!$C$5:$C$1004,$A38,Lançamentos!$G$5:$G$1004,DATE($B$2,11,1))) | M38: =IF($A38="","",SUMIFS(Lançamentos!$D$5:$D$1004,Lançamentos!$C$5:$C$1004,$A38,Lançamentos!$G$5:$G$1004,DATE($B$2,12,1))) | N38: =IF($A38="","",SUM(B38:M38)) | O38: =IF(OR($A38="",$N$10=0),"",N38/$N$10) | P38: =IF($A38="","",Categorias!$C$29) | Q38: =IF(OR($A38="",O38="",P38=""),"",O38-P38)
A39: =IF(Categorias!$A$30="","",Categorias!$A$30) | B39: =IF($A39="","",SUMIFS(Lançamentos!$D$5:$D$1004,Lançamentos!$C$5:$C$1004,$A39,Lançamentos!$G$5:$G$1004,DATE($B$2,1,1))) | C39: =IF($A39="","",SUMIFS(Lançamentos!$D$5:$D$1004,Lançamentos!$C$5:$C$1004,$A39,Lançamentos!$G$5:$G$1004,DATE($B$2,2,1))) | D39: =IF($A39="","",SUMIFS(Lançamentos!$D$5:$D$1004,Lançamentos!$C$5:$C$1004,$A39,Lançamentos!$G$5:$G$1004,DATE($B$2,3,1))) | E39: =IF($A39="","",SUMIFS(Lançamentos!$D$5:$D$1004,Lançamentos!$C$5:$C$1004,$A39,Lançamentos!$G$5:$G$1004,DATE($B$2,4,1))) | F39: =IF($A39="","",SUMIFS(Lançamentos!$D$5:$D$1004,Lançamentos!$C$5:$C$1004,$A39,Lançamentos!$G$5:$G$1004,DATE($B$2,5,1))) | G39: =IF($A39="","",SUMIFS(Lançamentos!$D$5:$D$1004,Lançamentos!$C$5:$C$1004,$A39,Lançamentos!$G$5:$G$1004,DATE($B$2,6,1))) | H39: =IF($A39="","",SUMIFS(Lançamentos!$D$5:$D$1004,Lançamentos!$C$5:$C$1004,$A39,Lançamentos!$G$5:$G$1004,DATE($B$2,7,1))) | I39: =IF($A39="","",SUMIFS(Lançamentos!$D$5:$D$1004,Lançamentos!$C$5:$C$1004,$A39,Lançamentos!$G$5:$G$1004,DATE($B$2,8,1))) | J39: =IF($A39="","",SUMIFS(Lançamentos!$D$5:$D$1004,Lançamentos!$C$5:$C$1004,$A39,Lançamentos!$G$5:$G$1004,DATE($B$2,9,1))) | K39: =IF($A39="","",SUMIFS(Lançamentos!$D$5:$D$1004,Lançamentos!$C$5:$C$1004,$A39,Lançamentos!$G$5:$G$1004,DATE($B$2,10,1))) | L39: =IF($A39="","",SUMIFS(Lançamentos!$D$5:$D$1004,Lançamentos!$C$5:$C$1004,$A39,Lançamentos!$G$5:$G$1004,DATE($B$2,11,1))) | M39: =IF($A39="","",SUMIFS(Lançamentos!$D$5:$D$1004,Lançamentos!$C$5:$C$1004,$A39,Lançamentos!$G$5:$G$1004,DATE($B$2,12,1))) | N39: =IF($A39="","",SUM(B39:M39)) | O39: =IF(OR($A39="",$N$10=0),"",N39/$N$10) | P39: =IF($A39="","",Categorias!$C$30) | Q39: =IF(OR($A39="",O39="",P39=""),"",O39-P39)
A40: =IF(Categorias!$A$31="","",Categorias!$A$31) | B40: =IF($A40="","",SUMIFS(Lançamentos!$D$5:$D$1004,Lançamentos!$C$5:$C$1004,$A40,Lançamentos!$G$5:$G$1004,DATE($B$2,1,1))) | C40: =IF($A40="","",SUMIFS(Lançamentos!$D$5:$D$1004,Lançamentos!$C$5:$C$1004,$A40,Lançamentos!$G$5:$G$1004,DATE($B$2,2,1))) | D40: =IF($A40="","",SUMIFS(Lançamentos!$D$5:$D$1004,Lançamentos!$C$5:$C$1004,$A40,Lançamentos!$G$5:$G$1004,DATE($B$2,3,1))) | E40: =IF($A40="","",SUMIFS(Lançamentos!$D$5:$D$1004,Lançamentos!$C$5:$C$1004,$A40,Lançamentos!$G$5:$G$1004,DATE($B$2,4,1))) | F40: =IF($A40="","",SUMIFS(Lançamentos!$D$5:$D$1004,Lançamentos!$C$5:$C$1004,$A40,Lançamentos!$G$5:$G$1004,DATE($B$2,5,1))) | G40: =IF($A40="","",SUMIFS(Lançamentos!$D$5:$D$1004,Lançamentos!$C$5:$C$1004,$A40,Lançamentos!$G$5:$G$1004,DATE($B$2,6,1))) | H40: =IF($A40="","",SUMIFS(Lançamentos!$D$5:$D$1004,Lançamentos!$C$5:$C$1004,$A40,Lançamentos!$G$5:$G$1004,DATE($B$2,7,1))) | I40: =IF($A40="","",SUMIFS(Lançamentos!$D$5:$D$1004,Lançamentos!$C$5:$C$1004,$A40,Lançamentos!$G$5:$G$1004,DATE($B$2,8,1))) | J40: =IF($A40="","",SUMIFS(Lançamentos!$D$5:$D$1004,Lançamentos!$C$5:$C$1004,$A40,Lançamentos!$G$5:$G$1004,DATE($B$2,9,1))) | K40: =IF($A40="","",SUMIFS(Lançamentos!$D$5:$D$1004,Lançamentos!$C$5:$C$1004,$A40,Lançamentos!$G$5:$G$1004,DATE($B$2,10,1))) | L40: =IF($A40="","",SUMIFS(Lançamentos!$D$5:$D$1004,Lançamentos!$C$5:$C$1004,$A40,Lançamentos!$G$5:$G$1004,DATE($B$2,11,1))) | M40: =IF($A40="","",SUMIFS(Lançamentos!$D$5:$D$1004,Lançamentos!$C$5:$C$1004,$A40,Lançamentos!$G$5:$G$1004,DATE($B$2,12,1))) | N40: =IF($A40="","",SUM(B40:M40)) | O40: =IF(OR($A40="",$N$10=0),"",N40/$N$10) | P40: =IF($A40="","",Categorias!$C$31) | Q40: =IF(OR($A40="",O40="",P40=""),"",O40-P40)
A41: =IF(Categorias!$A$32="","",Categorias!$A$32) | B41: =IF($A41="","",SUMIFS(Lançamentos!$D$5:$D$1004,Lançamentos!$C$5:$C$1004,$A41,Lançamentos!$G$5:$G$1004,DATE($B$2,1,1))) | C41: =IF($A41="","",SUMIFS(Lançamentos!$D$5:$D$1004,Lançamentos!$C$5:$C$1004,$A41,Lançamentos!$G$5:$G$1004,DATE($B$2,2,1))) | D41: =IF($A41="","",SUMIFS(Lançamentos!$D$5:$D$1004,Lançamentos!$C$5:$C$1004,$A41,Lançamentos!$G$5:$G$1004,DATE($B$2,3,1))) | E41: =IF($A41="","",SUMIFS(Lançamentos!$D$5:$D$1004,Lançamentos!$C$5:$C$1004,$A41,Lançamentos!$G$5:$G$1004,DATE($B$2,4,1))) | F41: =IF($A41="","",SUMIFS(Lançamentos!$D$5:$D$1004,Lançamentos!$C$5:$C$1004,$A41,Lançamentos!$G$5:$G$1004,DATE($B$2,5,1))) | G41: =IF($A41="","",SUMIFS(Lançamentos!$D$5:$D$1004,Lançamentos!$C$5:$C$1004,$A41,Lançamentos!$G$5:$G$1004,DATE($B$2,6,1))) | H41: =IF($A41="","",SUMIFS(Lançamentos!$D$5:$D$1004,Lançamentos!$C$5:$C$1004,$A41,Lançamentos!$G$5:$G$1004,DATE($B$2,7,1))) | I41: =IF($A41="","",SUMIFS(Lançamentos!$D$5:$D$1004,Lançamentos!$C$5:$C$1004,$A41,Lançamentos!$G$5:$G$1004,DATE($B$2,8,1))) | J41: =IF($A41="","",SUMIFS(Lançamentos!$D$5:$D$1004,Lançamentos!$C$5:$C$1004,$A41,Lançamentos!$G$5:$G$1004,DATE($B$2,9,1))) | K41: =IF($A41="","",SUMIFS(Lançamentos!$D$5:$D$1004,Lançamentos!$C$5:$C$1004,$A41,Lançamentos!$G$5:$G$1004,DATE($B$2,10,1))) | L41: =IF($A41="","",SUMIFS(Lançamentos!$D$5:$D$1004,Lançamentos!$C$5:$C$1004,$A41,Lançamentos!$G$5:$G$1004,DATE($B$2,11,1))) | M41: =IF($A41="","",SUMIFS(Lançamentos!$D$5:$D$1004,Lançamentos!$C$5:$C$1004,$A41,Lançamentos!$G$5:$G$1004,DATE($B$2,12,1))) | N41: =IF($A41="","",SUM(B41:M41)) | O41: =IF(OR($A41="",$N$10=0),"",N41/$N$10) | P41: =IF($A41="","",Categorias!$C$32) | Q41: =IF(OR($A41="",O41="",P41=""),"",O41-P41)
A42: =IF(Categorias!$A$33="","",Categorias!$A$33) | B42: =IF($A42="","",SUMIFS(Lançamentos!$D$5:$D$1004,Lançamentos!$C$5:$C$1004,$A42,Lançamentos!$G$5:$G$1004,DATE($B$2,1,1))) | C42: =IF($A42="","",SUMIFS(Lançamentos!$D$5:$D$1004,Lançamentos!$C$5:$C$1004,$A42,Lançamentos!$G$5:$G$1004,DATE($B$2,2,1))) | D42: =IF($A42="","",SUMIFS(Lançamentos!$D$5:$D$1004,Lançamentos!$C$5:$C$1004,$A42,Lançamentos!$G$5:$G$1004,DATE($B$2,3,1))) | E42: =IF($A42="","",SUMIFS(Lançamentos!$D$5:$D$1004,Lançamentos!$C$5:$C$1004,$A42,Lançamentos!$G$5:$G$1004,DATE($B$2,4,1))) | F42: =IF($A42="","",SUMIFS(Lançamentos!$D$5:$D$1004,Lançamentos!$C$5:$C$1004,$A42,Lançamentos!$G$5:$G$1004,DATE($B$2,5,1))) | G42: =IF($A42="","",SUMIFS(Lançamentos!$D$5:$D$1004,Lançamentos!$C$5:$C$1004,$A42,Lançamentos!$G$5:$G$1004,DATE($B$2,6,1))) | H42: =IF($A42="","",SUMIFS(Lançamentos!$D$5:$D$1004,Lançamentos!$C$5:$C$1004,$A42,Lançamentos!$G$5:$G$1004,DATE($B$2,7,1))) | I42: =IF($A42="","",SUMIFS(Lançamentos!$D$5:$D$1004,Lançamentos!$C$5:$C$1004,$A42,Lançamentos!$G$5:$G$1004,DATE($B$2,8,1))) | J42: =IF($A42="","",SUMIFS(Lançamentos!$D$5:$D$1004,Lançamentos!$C$5:$C$1004,$A42,Lançamentos!$G$5:$G$1004,DATE($B$2,9,1))) | K42: =IF($A42="","",SUMIFS(Lançamentos!$D$5:$D$1004,Lançamentos!$C$5:$C$1004,$A42,Lançamentos!$G$5:$G$1004,DATE($B$2,10,1))) | L42: =IF($A42="","",SUMIFS(Lançamentos!$D$5:$D$1004,Lançamentos!$C$5:$C$1004,$A42,Lançamentos!$G$5:$G$1004,DATE($B$2,11,1))) | M42: =IF($A42="","",SUMIFS(Lançamentos!$D$5:$D$1004,Lançamentos!$C$5:$C$1004,$A42,Lançamentos!$G$5:$G$1004,DATE($B$2,12,1))) | N42: =IF($A42="","",SUM(B42:M42)) | O42: =IF(OR($A42="",$N$10=0),"",N42/$N$10) | P42: =IF($A42="","",Categorias!$C$33) | Q42: =IF(OR($A42="",O42="",P42=""),"",O42-P42)
...

Sheet Lançamentos
A1: Lançamentos
A2: Uma linha por entrada ou saída. Valores sempre positivos. As colunas Tipo e Mês se preenchem sozinhas.
A4: Data | B4: Descrição | C4: Categoria | D4: Valor (R$) | E4: Forma de pagamento | F4: Tipo | G4: Mês
A5: 46300 | B5: Salário outubro | C5: Salário | D5: 3500 | E5: Transferência | F5: =IF(C5="","",IFERROR(INDEX(Categorias!$B$5:$B$40,MATCH(C5,Categorias!$A$5:$A$40,0)),"Categoria?")) | G5: =IF(A5="","",DATE(YEAR(A5),MONTH(A5),1))
A6: 46301 | B6: Aluguel | C6: Moradia | D6: 1200 | E6: Pix | F6: =IF(C6="","",IFERROR(INDEX(Categorias!$B$5:$B$40,MATCH(C6,Categorias!$A$5:$A$40,0)),"Categoria?")) | G6: =IF(A6="","",DATE(YEAR(A6),MONTH(A6),1))
A7: 46303 | B7: Mercado do mês | C7: Mercado | D7: 520.4 | E7: Débito | F7: =IF(C7="","",IFERROR(INDEX(Categorias!$B$5:$B$40,MATCH(C7,Categorias!$A$5:$A$40,0)),"Categoria?")) | G7: =IF(A7="","",DATE(YEAR(A7),MONTH(A7),1))
A8: 46305 | B8: Conta de luz | C8: Contas da casa | D8: 148.9 | E8: Boleto | F8: =IF(C8="","",IFERROR(INDEX(Categorias!$B$5:$B$40,MATCH(C8,Categorias!$A$5:$A$40,0)),"Categoria?")) | G8: =IF(A8="","",DATE(YEAR(A8),MONTH(A8),1))
A9: 46307 | B9: Aplicativo de transporte | C9: Transporte | D9: 63.5 | E9: Crédito | F9: =IF(C9="","",IFERROR(INDEX(Categorias!$B$5:$B$40,MATCH(C9,Categorias!$A$5:$A$40,0)),"Categoria?")) | G9: =IF(A9="","",DATE(YEAR(A9),MONTH(A9),1))
A10: 46310 | B10: Caixinha da reserva | C10: Investimentos e reserva | D10: 300 | E10: Pix | F10: =IF(C10="","",IFERROR(INDEX(Categorias!$B$5:$B$40,MATCH(C10,Categorias!$A$5:$A$40,0)),"Categoria?")) | G10: =IF(A10="","",DATE(YEAR(A10),MONTH(A10),1))
F11: =IF(C11="","",IFERROR(INDEX(Categorias!$B$5:$B$40,MATCH(C11,Categorias!$A$5:$A$40,0)),"Categoria?")) | G11: =IF(A11="","",DATE(YEAR(A11),MONTH(A11),1))
F12: =IF(C12="","",IFERROR(INDEX(Categorias!$B$5:$B$40,MATCH(C12,Categorias!$A$5:$A$40,0)),"Categoria?")) | G12: =IF(A12="","",DATE(YEAR(A12),MONTH(A12),1))
F13: =IF(C13="","",IFERROR(INDEX(Categorias!$B$5:$B$40,MATCH(C13,Categorias!$A$5:$A$40,0)),"Categoria?")) | G13: =IF(A13="","",DATE(YEAR(A13),MONTH(A13),1))
F14: =IF(C14="","",IFERROR(INDEX(Categorias!$B$5:$B$40,MATCH(C14,Categorias!$A$5:$A$40,0)),"Categoria?")) | G14: =IF(A14="","",DATE(YEAR(A14),MONTH(A14),1))
F15: =IF(C15="","",IFERROR(INDEX(Categorias!$B$5:$B$40,MATCH(C15,Categorias!$A$5:$A$40,0)),"Categoria?")) | G15: =IF(A15="","",DATE(YEAR(A15),MONTH(A15),1))
F16: =IF(C16="","",IFERROR(INDEX(Categorias!$B$5:$B$40,MATCH(C16,Categorias!$A$5:$A$40,0)),"Categoria?")) | G16: =IF(A16="","",DATE(YEAR(A16),MONTH(A16),1))
F17: =IF(C17="","",IFERROR(INDEX(Categorias!$B$5:$B$40,MATCH(C17,Categorias!$A$5:$A$40,0)),"Categoria?")) | G17: =IF(A17="","",DATE(YEAR(A17),MONTH(A17),1))
